BEGIN:VCALENDAR
VERSION:2.0
PRODID:-//Maranatha Christian Center - ECPv5.12.2//NONSGML v1.0//EN
CALSCALE:GREGORIAN
METHOD:PUBLISH
X-WR-CALNAME:Maranatha Christian Center
X-ORIGINAL-URL:http://maranathadekalb.org
X-WR-CALDESC:Events for Maranatha Christian Center
REFRESH-INTERVAL;VALUE=DURATION:PT1H
X-Robots-Tag:noindex
X-PUBLISHED-TTL:PT1H
BEGIN:VTIMEZONE
TZID:UTC
BEGIN:STANDARD
TZOFFSETFROM:+0000
TZOFFSETTO:+0000
TZNAME:UTC
DTSTART:20250101T000000
END:STANDARD
END:VTIMEZONE
BEGIN:VEVENT
DTSTART;TZID=UTC:20250907T103000
DTEND;TZID=UTC:20250907T120000
DTSTAMP:20260420T101920
CREATED:20190103T170725Z
LAST-MODIFIED:20250804T193733Z
UID:1800-1757241000-1757246400@maranathadekalb.org
SUMMARY:Baptism Sunday
DESCRIPTION: At Maranatha\, we believe that water baptism is a celebration of your decision to follow Jesus Christ as your Lord and Savior. As your church family\, we would love to stand with you as you publicly declare that you have made the decision to surrender your life to the Lord. \n  \n  \nRegister HERE \n  \n  \n 
URL:http://maranathadekalb.org/event/baptism/
LOCATION:Maranatha Christian Center\, 700 W. Front ST.\, De Kalb\, Texas\, 75559\, United States
ATTACH;FMTTYPE=image/jpeg:http://maranathadekalb.org/wp-content/uploads/2019/01/Unknown-3.jpeg
END:VEVENT
END:VCALENDAR