BEGIN:VCALENDAR
VERSION:2.0
PRODID:-//Maranatha Christian Center - ECPv5.12.2//NONSGML v1.0//EN
CALSCALE:GREGORIAN
METHOD:PUBLISH
X-WR-CALNAME:Maranatha Christian Center
X-ORIGINAL-URL:https://maranathadekalb.org
X-WR-CALDESC:Events for Maranatha Christian Center
REFRESH-INTERVAL;VALUE=DURATION:PT1H
X-Robots-Tag:noindex
X-PUBLISHED-TTL:PT1H
BEGIN:VTIMEZONE
TZID:UTC
BEGIN:STANDARD
TZOFFSETFROM:+0000
TZOFFSETTO:+0000
TZNAME:UTC
DTSTART:20200101T000000
END:STANDARD
END:VTIMEZONE
BEGIN:VEVENT
DTSTART;TZID=UTC:20201010T080000
DTEND;TZID=UTC:20201010T090000
DTSTAMP:20260423T082432
CREATED:20200810T200742Z
LAST-MODIFIED:20200908T183238Z
UID:2456-1602316800-1602320400@maranathadekalb.org
SUMMARY:Men's Breakfast
DESCRIPTION:If you are a man\, and you like breakfast – you should come. \n  \n*Location and more info to come.
URL:https://maranathadekalb.org/event/mens-breakfast-2/
ATTACH;FMTTYPE=image/jpeg:https://maranathadekalb.org/wp-content/uploads/2020/08/IMG_9678.jpg
END:VEVENT
END:VCALENDAR