BEGIN:VCALENDAR
VERSION:2.0
PRODID:-//Maranatha Christian Center - ECPv5.12.2//NONSGML v1.0//EN
CALSCALE:GREGORIAN
METHOD:PUBLISH
X-WR-CALNAME:Maranatha Christian Center
X-ORIGINAL-URL:https://maranathadekalb.org
X-WR-CALDESC:Events for Maranatha Christian Center
REFRESH-INTERVAL;VALUE=DURATION:PT1H
X-Robots-Tag:noindex
X-PUBLISHED-TTL:PT1H
BEGIN:VTIMEZONE
TZID:UTC
BEGIN:STANDARD
TZOFFSETFROM:+0000
TZOFFSETTO:+0000
TZNAME:UTC
DTSTART:20200101T000000
END:STANDARD
END:VTIMEZONE
BEGIN:VEVENT
DTSTART;TZID=UTC:20201121T100000
DTEND;TZID=UTC:20201121T120000
DTSTAMP:20260423T082441
CREATED:20191029T184501Z
LAST-MODIFIED:20201110T194339Z
UID:2030-1605952800-1605960000@maranathadekalb.org
SUMMARY:MCC Share Food Pantry- Thanksgiving Items
DESCRIPTION:MCC Share is available to individuals and families who are facing food insecurity in the 75559 zip code. We will be open the 3rd Saturday of each month from 10am – 12pm.  Our pantry is located in the small building behind Maranatha Christian Center at 700 West Front St. \n *Requirements: \n\nResident of 75559 zip code\nPicture ID\nProof of residence or official document (utility bill\, lease agreement\, etc)\n\n  \n*If you would like to donate to MCC Share\, specific items currently needed for our Thanksgiving Meals are: \n\nCanned Green Beans\nCream of Mushroom Soup\nCream of Chicken Soup\nBoxed Dressing Mix\nBoxed Mashed Potatoes\nCanned Cranberry Sauce\nChicken Broth\n\nFor more information email info@maranathadekalb.org
URL:https://maranathadekalb.org/event/mcc-share-thanksgiving-list/
CATEGORIES:Community
ATTACH;FMTTYPE=image/png:https://maranathadekalb.org/wp-content/uploads/2019/07/PNG-image-41E2F1E8F893-1.png
END:VEVENT
END:VCALENDAR