BEGIN:VCALENDAR
VERSION:2.0
PRODID:-//Maranatha Christian Center - ECPv5.12.2//NONSGML v1.0//EN
CALSCALE:GREGORIAN
METHOD:PUBLISH
X-WR-CALNAME:Maranatha Christian Center
X-ORIGINAL-URL:https://maranathadekalb.org
X-WR-CALDESC:Events for Maranatha Christian Center
REFRESH-INTERVAL;VALUE=DURATION:PT1H
X-Robots-Tag:noindex
X-PUBLISHED-TTL:PT1H
BEGIN:VTIMEZONE
TZID:UTC
BEGIN:STANDARD
TZOFFSETFROM:+0000
TZOFFSETTO:+0000
TZNAME:UTC
DTSTART:20200101T000000
END:STANDARD
END:VTIMEZONE
BEGIN:VEVENT
DTSTART;TZID=UTC:20201126T110000
DTEND;TZID=UTC:20201126T120000
DTSTAMP:20260423T100518
CREATED:20201123T172527Z
LAST-MODIFIED:20201123T172527Z
UID:2512-1606388400-1606392000@maranathadekalb.org
SUMMARY:Community Thanksgiving Meal
DESCRIPTION:Looking for somewhere to spend THANKSGIVING??? \nThis year\, MARANATHA CHRISTIAN CENTER is hosting a community THANKSGIVING meal for anyone who may be alone or unable to afford a home-cooked meal. If you or someone you know would benefit from having somewhere to spend Thanksgiving\, we would be honored to host you. The meal will be served\, free of charge\, at the DeKalb Shelter\, on Thanksgiving Day\, from 11-12pm. \nIf you’d like to know more email INFO@MARANATHADEKALB.ORGOR call 903-667-5346. \n 
URL:https://maranathadekalb.org/event/community-thanksgiving-meal/
CATEGORIES:Community,Food,Outreach
ATTACH;FMTTYPE=image/jpeg:https://maranathadekalb.org/wp-content/uploads/2020/11/Community-Thanksgiving.jpg
END:VEVENT
END:VCALENDAR