BEGIN:VCALENDAR
VERSION:2.0
PRODID:-//Maranatha Christian Center - ECPv5.12.2//NONSGML v1.0//EN
CALSCALE:GREGORIAN
METHOD:PUBLISH
X-WR-CALNAME:Maranatha Christian Center
X-ORIGINAL-URL:https://maranathadekalb.org
X-WR-CALDESC:Events for Maranatha Christian Center
REFRESH-INTERVAL;VALUE=DURATION:PT1H
X-Robots-Tag:noindex
X-PUBLISHED-TTL:PT1H
BEGIN:VTIMEZONE
TZID:UTC
BEGIN:STANDARD
TZOFFSETFROM:+0000
TZOFFSETTO:+0000
TZNAME:UTC
DTSTART:20210101T000000
END:STANDARD
END:VTIMEZONE
BEGIN:VEVENT
DTSTART;VALUE=DATE:20210116
DTEND;VALUE=DATE:20210117
DTSTAMP:20260423T131526
CREATED:20191219T163608Z
LAST-MODIFIED:20210102T191840Z
UID:2121-1610755200-1610841599@maranathadekalb.org
SUMMARY:Prayer and Fasting - Day 13
DESCRIPTION:MCC Kids and Merge Student Ministry\n3 John 1:4\nEach day contains a prayer focus. This includes one or two Scriptures to declare and meditate on. Please note that these are only suggestions so feel free to pray into each area in the way the Holy Spirit leads. All we ask is that you take some time to pray each day for the theme that’s given. This way there will be lots of focused prayer about each area\, bringing breakthrough both personally and corporately. \nOur desire as a church is to create a culture of prayer where we see breakthrough\, miracles and God answering prayer on a daily basis. We believe that prayer is the fuel for our vision and breakthrough in your life. We will be fasting for 21 days. On our site under the “21 Days of Prayer and Fasting Guide\,” you  will find some helpful information on what\, how\, and why to fast. If you have further questions\, please feel free to contact our staff at Info@maranathadekalb.org
URL:https://maranathadekalb.org/event/prayer-and-fasting-day-13/
ATTACH;FMTTYPE=image/png:https://maranathadekalb.org/wp-content/uploads/2019/12/IMG_2604.png
END:VEVENT
BEGIN:VEVENT
DTSTART;TZID=UTC:20210116T160000
DTEND;TZID=UTC:20210116T170000
DTSTAMP:20260423T131526
CREATED:20200202T195620Z
LAST-MODIFIED:20210111T202341Z
UID:2168-1610812800-1610816400@maranathadekalb.org
SUMMARY:MCC Share Food Pantry - January
DESCRIPTION:MCC Share is available to individuals and families who are facing food insecurity in the 75559 zip code. We will be open the 3rd Saturday of each month from 10:00 – 11:00AM.  Our pantry is located in the small building behind Maranatha Christian Center at 700 West Front St. \n *Requirements: \n\nResident of 75559 zip code\nPicture ID\nProof of residence or official document (utility bill\, lease agreement\, etc)\n\n  \n*If you would like to donate to MCC Share\, specific items currently needed are: \n\nRaman Noodles\nCanned Soup\nCanned Fruit\nCanned Potatoes\nCanned Green Beans\nCanned Corn\nPeanut Butter\nRice-A-Roni\nHamburger Helper\nCereal\nCanned Peas\nCanned Carrots\nChef Boyardee or other canned meal\nCanned Chicken\nCanned Tuna\n1lb Spaghetti\nCanned Pasta Sauce\n\nFor more information email info@maranathadekalb.org
URL:https://maranathadekalb.org/event/mcc-share-food-pantry-3/
LOCATION:Maranatha Christian Center
CATEGORIES:Community,Food
ATTACH;FMTTYPE=image/png:https://maranathadekalb.org/wp-content/uploads/2020/01/IMG_3166.png
END:VEVENT
END:VCALENDAR