BEGIN:VCALENDAR
VERSION:2.0
PRODID:-//Maranatha Christian Center - ECPv5.12.2//NONSGML v1.0//EN
CALSCALE:GREGORIAN
METHOD:PUBLISH
X-WR-CALNAME:Maranatha Christian Center
X-ORIGINAL-URL:https://maranathadekalb.org
X-WR-CALDESC:Events for Maranatha Christian Center
REFRESH-INTERVAL;VALUE=DURATION:PT1H
X-Robots-Tag:noindex
X-PUBLISHED-TTL:PT1H
BEGIN:VTIMEZONE
TZID:UTC
BEGIN:STANDARD
TZOFFSETFROM:+0000
TZOFFSETTO:+0000
TZNAME:UTC
DTSTART:20210101T000000
END:STANDARD
END:VTIMEZONE
BEGIN:VEVENT
DTSTART;VALUE=DATE:20210123
DTEND;VALUE=DATE:20210124
DTSTAMP:20260423T131524
CREATED:20191219T164639Z
LAST-MODIFIED:20210102T193056Z
UID:2142-1611360000-1611446399@maranathadekalb.org
SUMMARY:Prayer and Fasting - Day 20
DESCRIPTION:Perseverance \nPsalm 27:13-14\nEach day contains a prayer focus. This includes one or two Scriptures to declare and meditate on. Please note that these are only suggestions so feel free to pray into each area in the way the Holy Spirit leads. All we ask is that you take some time to pray each day for the theme that’s given. This way there will be lots of focused prayer about each area\, bringing breakthrough both personally and corporately. \nOur desire as a church is to create a culture of prayer where we see breakthrough\, miracles and God answering prayer on a daily basis. We believe that prayer is the fuel for our vision and breakthrough in your life. We will be fasting for 21 days. On our site under the “21 Days of Prayer and Fasting Guide\,” you  will find some helpful information on what\, how\, and why to fast. If you have further questions\, please feel free to contact our staff at Info@maranathadekalb.org
URL:https://maranathadekalb.org/event/prayer-and-fasting-day-20/
ATTACH;FMTTYPE=image/png:https://maranathadekalb.org/wp-content/uploads/2019/12/IMG_2611.png
END:VEVENT
END:VCALENDAR