BEGIN:VCALENDAR
VERSION:2.0
PRODID:-//Maranatha Christian Center - ECPv5.12.2//NONSGML v1.0//EN
CALSCALE:GREGORIAN
METHOD:PUBLISH
X-WR-CALNAME:Maranatha Christian Center
X-ORIGINAL-URL:https://maranathadekalb.org
X-WR-CALDESC:Events for Maranatha Christian Center
REFRESH-INTERVAL;VALUE=DURATION:PT1H
X-Robots-Tag:noindex
X-PUBLISHED-TTL:PT1H
BEGIN:VTIMEZONE
TZID:UTC
BEGIN:STANDARD
TZOFFSETFROM:+0000
TZOFFSETTO:+0000
TZNAME:UTC
DTSTART:20200101T000000
END:STANDARD
END:VTIMEZONE
BEGIN:VEVENT
DTSTART;TZID=UTC:20201220T103000
DTEND;TZID=UTC:20201220T120000
DTSTAMP:20260423T102541
CREATED:20201214T170937Z
LAST-MODIFIED:20201214T170937Z
UID:2519-1608460200-1608465600@maranathadekalb.org
SUMMARY:MCC Kids and Youth Christmas Presentation
DESCRIPTION:This year\, our MCC KIDS and MERGE Students have teamed up for our 2020 Christmas presentation\, Worship the King! Be sure to invite your friends and family and join us Dec. 20th  as we celebrate together!
URL:https://maranathadekalb.org/event/mcc-kids-and-youth-christmas-presentation/
ATTACH;FMTTYPE=image/jpeg:https://maranathadekalb.org/wp-content/uploads/2020/12/Worship-The-King-scaled.jpeg
END:VEVENT
END:VCALENDAR