BEGIN:VCALENDAR
VERSION:2.0
PRODID:-//Maranatha Christian Center - ECPv5.12.2//NONSGML v1.0//EN
CALSCALE:GREGORIAN
METHOD:PUBLISH
X-WR-CALNAME:Maranatha Christian Center
X-ORIGINAL-URL:https://maranathadekalb.org
X-WR-CALDESC:Events for Maranatha Christian Center
REFRESH-INTERVAL;VALUE=DURATION:PT1H
X-Robots-Tag:noindex
X-PUBLISHED-TTL:PT1H
BEGIN:VTIMEZONE
TZID:UTC
BEGIN:STANDARD
TZOFFSETFROM:+0000
TZOFFSETTO:+0000
TZNAME:UTC
DTSTART:20210101T000000
END:STANDARD
END:VTIMEZONE
BEGIN:VEVENT
DTSTART;TZID=UTC:20210509T093000
DTEND;TZID=UTC:20210509T101500
DTSTAMP:20260425T123439
CREATED:20210419T200047Z
LAST-MODIFIED:20210419T200128Z
UID:2579-1620552600-1620555300@maranathadekalb.org
SUMMARY:Mother's Day Breakfast
DESCRIPTION:Moms\, please join us May 9th for a special breakfast in your honor.  It will be a come and go from 9:30 – 10:15.  Please bring your children too.  We will have a special project for them and will be serving them donuts and milk in another room.  MCC wants to honor & encourage our Mother’s for all you do to raise Godly children! Thank you to all of our amazing moms! We hope you’ll join us.
URL:https://maranathadekalb.org/event/mothers-day-breakfast-2/
ATTACH;FMTTYPE=image/png:https://maranathadekalb.org/wp-content/uploads/2021/04/54850637-dd63-4877-a806-8d2f932e77d9.png
END:VEVENT
END:VCALENDAR